BEGIN:VCALENDAR
VERSION:2.0
PRODID:-//hacksw/handcal//NONSGML v1.0//EN
BEGIN:VEVENT
SUMMARY:Match
UID:8b4efe26-7d9f-4f30-86e5-0587d7e03bc1
DTSTART:20260318T090000Z
DTEND:20260318T130000Z
LOCATION:Localisation   
CATEGORIES:Sportif
STATUS:
DESCRIPTION:Belle victoire de notre equipe ! Rendez-vous samedi pour
 le prochain match. 
URL;VALUE=URI:https://entente-sportive-gatinaise-football.sportsregions.fr/evenements/2026/03/18/match-2430245
END:VEVENT
END:VCALENDAR
