BEGIN:VCALENDAR
VERSION:2.0
PRODID:-//hacksw/handcal//NONSGML v1.0//EN
BEGIN:VEVENT
SUMMARY:Entrainement Equipe 1
UID:80906510-3cb9-406e-9de9-2336732292c5
DTSTART:20260318T180000Z
DTEND:20260318T200000Z
LOCATION:Localisation   
CATEGORIES:Entrainement
STATUS:
DESCRIPTION:Entrainement tactique pour l'equipe 1 ce soir au stade
 Municipal. 
URL;VALUE=URI:https://entente-sportive-gatinaise-football.sportsregions.fr/evenements/2026/03/18/entrainement-equipe-1-2430246
END:VEVENT
END:VCALENDAR
